BEGIN:VCALENDAR
VERSION:2.0
PRODID:-//Blossom Hill Ranch - ECPv6.8.3//NONSGML v1.0//EN
CALSCALE:GREGORIAN
METHOD:PUBLISH
X-WR-CALNAME:Blossom Hill Ranch
X-ORIGINAL-URL:https://www.murrietahorsebackriding.com
X-WR-CALDESC:Events for Blossom Hill Ranch
REFRESH-INTERVAL;VALUE=DURATION:PT1H
X-Robots-Tag:noindex
X-PUBLISHED-TTL:PT1H
BEGIN:VTIMEZONE
TZID:America/Los_Angeles
BEGIN:DAYLIGHT
TZOFFSETFROM:-0800
TZOFFSETTO:-0700
TZNAME:PDT
DTSTART:20200308T100000
END:DAYLIGHT
BEGIN:STANDARD
TZOFFSETFROM:-0700
TZOFFSETTO:-0800
TZNAME:PST
DTSTART:20201101T090000
END:STANDARD
BEGIN:DAYLIGHT
TZOFFSETFROM:-0800
TZOFFSETTO:-0700
TZNAME:PDT
DTSTART:20210314T100000
END:DAYLIGHT
BEGIN:STANDARD
TZOFFSETFROM:-0700
TZOFFSETTO:-0800
TZNAME:PST
DTSTART:20211107T090000
END:STANDARD
BEGIN:DAYLIGHT
TZOFFSETFROM:-0800
TZOFFSETTO:-0700
TZNAME:PDT
DTSTART:20220313T100000
END:DAYLIGHT
BEGIN:STANDARD
TZOFFSETFROM:-0700
TZOFFSETTO:-0800
TZNAME:PST
DTSTART:20221106T090000
END:STANDARD
BEGIN:DAYLIGHT
TZOFFSETFROM:-0800
TZOFFSETTO:-0700
TZNAME:PDT
DTSTART:20230312T100000
END:DAYLIGHT
BEGIN:STANDARD
TZOFFSETFROM:-0700
TZOFFSETTO:-0800
TZNAME:PST
DTSTART:20231105T090000
END:STANDARD
END:VTIMEZONE
BEGIN:VEVENT
DTSTART;VALUE=DATE:20230710
DTEND;VALUE=DATE:20230715
DTSTAMP:20260421T143641
CREATED:20230130T004505Z
LAST-MODIFIED:20230130T004505Z
UID:568-1688947200-1689379199@www.murrietahorsebackriding.com
SUMMARY:Summer Horse Camp - Session 5
DESCRIPTION:Horse camp is a great way for riders ages 5 – 14 to spend their vacation from school with horses. Campers will get tons of riding time! They will get daily riding lessons where they will learn how to jump\, do western-style gymkhana games\, and fine-tune their overall riding. They will also get the opportunity to go on trail rides and ride bareback! Each day is loaded with games\, crafts\, and activities. Campers learn responsibility by caring for their horses every day. There are daily educational workshops that include: Grooming and Braiding for Shows\, Horse Anatomy\, Horse Health\, and more! This is a great opportunity to make horsey friends that will last a lifetime!
URL:https://www.murrietahorsebackriding.com/event/summer-horse-camp-session-5/
LOCATION:Blossom Hill Ranch\, 42631 Kalmia St.\, Murrieta\, CA\, 92562\, United States
ORGANIZER;CN="Candice Jennings":MAILTO:blossomhillranch@gmail.com
END:VEVENT
BEGIN:VEVENT
DTSTART;VALUE=DATE:20230629
DTEND;VALUE=DATE:20230705
DTSTAMP:20260421T143641
CREATED:20230130T003032Z
LAST-MODIFIED:20230130T005145Z
UID:548-1687996800-1688515199@www.murrietahorsebackriding.com
SUMMARY:Scheduled Barn Closure
DESCRIPTION:Blossom Hill Ranch Barn Closure Policy  \nScheduled barn closures take place on days that fall on the ‘fifth week’ of the month to ensure riders still receive their four paid lessons each billing cycle. This allows our horses to rest and rejuvenate so they can show up the best for their regular scheduled lessons!
URL:https://www.murrietahorsebackriding.com/event/scheduled-barn-closure-3/
LOCATION:Blossom Hill Ranch\, 42631 Kalmia St.\, Murrieta\, CA\, 92562\, United States
ORGANIZER;CN="Candice Jennings":MAILTO:blossomhillranch@gmail.com
END:VEVENT
BEGIN:VEVENT
DTSTART;VALUE=DATE:20230626
DTEND;VALUE=DATE:20230701
DTSTAMP:20260421T143641
CREATED:20230130T004419Z
LAST-MODIFIED:20230130T004419Z
UID:566-1687737600-1688169599@www.murrietahorsebackriding.com
SUMMARY:Summer Horse Camp - Session 4
DESCRIPTION:Horse camp is a great way for riders ages 5 – 14 to spend their vacation from school with horses. Campers will get tons of riding time! They will get daily riding lessons where they will learn how to jump\, do western-style gymkhana games\, and fine-tune their overall riding. They will also get the opportunity to go on trail rides and ride bareback! Each day is loaded with games\, crafts\, and activities. Campers learn responsibility by caring for their horses every day. There are daily educational workshops that include: Grooming and Braiding for Shows\, Horse Anatomy\, Horse Health\, and more! This is a great opportunity to make horsey friends that will last a lifetime!
URL:https://www.murrietahorsebackriding.com/event/summer-horse-camp-session-4/
LOCATION:Blossom Hill Ranch\, 42631 Kalmia St.\, Murrieta\, CA\, 92562\, United States
ORGANIZER;CN="Candice Jennings":MAILTO:blossomhillranch@gmail.com
END:VEVENT
BEGIN:VEVENT
DTSTART;VALUE=DATE:20230619
DTEND;VALUE=DATE:20230624
DTSTAMP:20260421T143641
CREATED:20230130T004334Z
LAST-MODIFIED:20230523T175412Z
UID:564-1687132800-1687564799@www.murrietahorsebackriding.com
SUMMARY:Summer Horse Camp - Session 3
DESCRIPTION:Horse camp is a great way for riders ages 5 – 14 to spend their vacation from school with horses. Campers will get tons of riding time! They will get daily riding lessons where they will learn how to jump\, do western-style gymkhana games\, and fine-tune their overall riding. They will also get the opportunity to go on trail rides and ride bareback! Each day is loaded with games\, crafts\, and activities. Campers learn responsibility by caring for their horses every day. There are daily educational workshops that include: Grooming and Braiding for Shows\, Horse Anatomy\, Horse Health\, and more! This is a great opportunity to make horsey friends that will last a lifetime!
URL:https://www.murrietahorsebackriding.com/event/summer-horse-camp/
LOCATION:Blossom Hill Ranch\, 42631 Kalmia St.\, Murrieta\, CA\, 92562\, United States
ORGANIZER;CN="Candice Jennings":MAILTO:blossomhillranch@gmail.com
END:VEVENT
BEGIN:VEVENT
DTSTART;VALUE=DATE:20230612
DTEND;VALUE=DATE:20230617
DTSTAMP:20260421T143641
CREATED:20230130T004248Z
LAST-MODIFIED:20230130T004248Z
UID:562-1686528000-1686959999@www.murrietahorsebackriding.com
SUMMARY:Summer Horse Camp - Session 2
DESCRIPTION:Horse camp is a great way for riders ages 5 – 14 to spend their vacation from school with horses. Campers will get tons of riding time! They will get daily riding lessons where they will learn how to jump\, do western-style gymkhana games\, and fine-tune their overall riding. They will also get the opportunity to go on trail rides and ride bareback! Each day is loaded with games\, crafts\, and activities. Campers learn responsibility by caring for their horses every day. There are daily educational workshops that include: Grooming and Braiding for Shows\, Horse Anatomy\, Horse Health\, and more! This is a great opportunity to make horsey friends that will last a lifetime!
URL:https://www.murrietahorsebackriding.com/event/summer-horse-camp-session-2/
LOCATION:Blossom Hill Ranch\, 42631 Kalmia St.\, Murrieta\, CA\, 92562\, United States
ORGANIZER;CN="Candice Jennings":MAILTO:blossomhillranch@gmail.com
END:VEVENT
BEGIN:VEVENT
DTSTART;VALUE=DATE:20230605
DTEND;VALUE=DATE:20230610
DTSTAMP:20260421T143641
CREATED:20230130T004145Z
LAST-MODIFIED:20230130T004145Z
UID:560-1685923200-1686355199@www.murrietahorsebackriding.com
SUMMARY:Summer Horse Camp - Session 1
DESCRIPTION:Horse camp is a great way for riders ages 5 – 14 to spend their vacation from school with horses. Campers will get tons of riding time! They will get daily riding lessons where they will learn how to jump\, do western-style gymkhana games\, and fine-tune their overall riding. They will also get the opportunity to go on trail rides and ride bareback! Each day is loaded with games\, crafts\, and activities. Campers learn responsibility by caring for their horses every day. There are daily educational workshops that include: Grooming and Braiding for Shows\, Horse Anatomy\, Horse Health\, and more! This is a great opportunity to make horsey friends that will last a lifetime!
URL:https://www.murrietahorsebackriding.com/event/summer-horse-camp-session-1/
LOCATION:Blossom Hill Ranch\, 42631 Kalmia St.\, Murrieta\, CA\, 92562\, United States
ORGANIZER;CN="Candice Jennings":MAILTO:blossomhillranch@gmail.com
END:VEVENT
BEGIN:VEVENT
DTSTART;VALUE=DATE:20230429
DTEND;VALUE=DATE:20230504
DTSTAMP:20260421T143641
CREATED:20230130T002701Z
LAST-MODIFIED:20230130T005150Z
UID:544-1682726400-1683158399@www.murrietahorsebackriding.com
SUMMARY:Scheduled Barn Closure
DESCRIPTION:Blossom Hill Ranch Barn Closure Policy  \nScheduled barn closures take place on days that fall on the ‘fifth week’ of the month to ensure riders still receive their four paid lessons each billing cycle. This allows our horses to rest and rejuvenate so they can show up the best for their regular scheduled lessons!
URL:https://www.murrietahorsebackriding.com/event/scheduled-barn-closure-2/
LOCATION:Blossom Hill Ranch\, 42631 Kalmia St.\, Murrieta\, CA\, 92562\, United States
ORGANIZER;CN="Candice Jennings":MAILTO:blossomhillranch@gmail.com
END:VEVENT
BEGIN:VEVENT
DTSTART;VALUE=DATE:20230403
DTEND;VALUE=DATE:20230408
DTSTAMP:20260421T143641
CREATED:20230130T004022Z
LAST-MODIFIED:20230130T004022Z
UID:558-1680480000-1680911999@www.murrietahorsebackriding.com
SUMMARY:Spring Horse Camp
DESCRIPTION:Horse camp is a great way for riders ages 5 – 14 to spend their vacation from school with horses. Campers will get tons of riding time! They will get daily riding lessons where they will learn how to jump\, do western-style gymkhana games\, and fine-tune their overall riding. They will also get the opportunity to go on trail rides and ride bareback! Each day is loaded with games\, crafts\, and activities. Campers learn responsibility by caring for their horses every day. There are daily educational workshops that include: Grooming and Braiding for Shows\, Horse Anatomy\, Horse Health\, and more! This is a great opportunity to make horsey friends that will last a lifetime!
URL:https://www.murrietahorsebackriding.com/event/spring-horse-camp/
LOCATION:Blossom Hill Ranch\, 42631 Kalmia St.\, Murrieta\, CA\, 92562\, United States
ORGANIZER;CN="Candice Jennings":MAILTO:blossomhillranch@gmail.com
END:VEVENT
BEGIN:VEVENT
DTSTART;VALUE=DATE:20230301
DTEND;VALUE=DATE:20230304
DTSTAMP:20260421T143641
CREATED:20230130T002405Z
LAST-MODIFIED:20230130T005159Z
UID:541-1677628800-1677887999@www.murrietahorsebackriding.com
SUMMARY:Scheduled Barn Closure
DESCRIPTION:Blossom Hill Ranch Barn Closure Policy  \nScheduled barn closures take place on days that fall on the ‘fifth week’ of the month to ensure riders still receive their four paid lessons each billing cycle. This allows our horses to rest and rejuvenate so they can show up the best for their regular scheduled lessons!
URL:https://www.murrietahorsebackriding.com/event/scheduled-barn-closure/
LOCATION:Blossom Hill Ranch\, 42631 Kalmia St.\, Murrieta\, CA\, 92562\, United States
ORGANIZER;CN="Candice Jennings":MAILTO:blossomhillranch@gmail.com
END:VEVENT
BEGIN:VEVENT
DTSTART;VALUE=DATE:20230226
DTEND;VALUE=DATE:20230227
DTSTAMP:20260421T143641
CREATED:20221116T193940Z
LAST-MODIFIED:20221116T193940Z
UID:477-1677369600-1677455999@www.murrietahorsebackriding.com
SUMMARY:Galway Downs 1 Day Schooling Event
DESCRIPTION:
URL:https://www.murrietahorsebackriding.com/event/galway-downs-1-day-schooling-event/
LOCATION:Galway Downs Equestrian Center\, 38801 Los Corralitos Rd\, Temecula\, CA\, 92592\, United States
ORGANIZER;CN="Candice Jennings":MAILTO:blossomhillranch@gmail.com
END:VEVENT
BEGIN:VEVENT
DTSTART;VALUE=DATE:20230120
DTEND;VALUE=DATE:20230123
DTSTAMP:20260421T143641
CREATED:20221116T193753Z
LAST-MODIFIED:20221116T193753Z
UID:469-1674172800-1674431999@www.murrietahorsebackriding.com
SUMMARY:Galway Downs Fundraiser Clinic
DESCRIPTION:
URL:https://www.murrietahorsebackriding.com/event/galway-downs-fundraiser-clinic/
LOCATION:Galway Downs Equestrian Center\, 38801 Los Corralitos Rd\, Temecula\, CA\, 92592\, United States
ORGANIZER;CN="Candice Jennings":MAILTO:blossomhillranch@gmail.com
END:VEVENT
BEGIN:VEVENT
DTSTART;TZID=America/Los_Angeles:20221217T130000
DTEND;TZID=America/Los_Angeles:20221217T160000
DTSTAMP:20260421T143641
CREATED:20221116T192656Z
LAST-MODIFIED:20221116T192656Z
UID:466-1671282000-1671292800@www.murrietahorsebackriding.com
SUMMARY:Christmas Party
DESCRIPTION:
URL:https://www.murrietahorsebackriding.com/event/christmas-party/
LOCATION:Blossom Hill Ranch\, 42631 Kalmia St.\, Murrieta\, CA\, 92562\, United States
ORGANIZER;CN="Candice Jennings":MAILTO:blossomhillranch@gmail.com
END:VEVENT
BEGIN:VEVENT
DTSTART;TZID=America/Los_Angeles:20221210T120000
DTEND;TZID=America/Los_Angeles:20221210T150000
DTSTAMP:20260421T143641
CREATED:20221116T203836Z
LAST-MODIFIED:20221116T203836Z
UID:499-1670673600-1670684400@www.murrietahorsebackriding.com
SUMMARY:PONY CLUB Mounted and Un-Mounted Meeting
DESCRIPTION:
URL:https://www.murrietahorsebackriding.com/event/pony-club-mounted-and-un-mounted-meeting-4/
LOCATION:Blossom Hill Ranch\, 42631 Kalmia St.\, Murrieta\, CA\, 92562\, United States
ORGANIZER;CN="Candice Jennings":MAILTO:blossomhillranch@gmail.com
END:VEVENT
BEGIN:VEVENT
DTSTART;TZID=America/Los_Angeles:20221210T120000
DTEND;TZID=America/Los_Angeles:20221210T150000
DTSTAMP:20260421T143641
CREATED:20221116T203120Z
LAST-MODIFIED:20221116T203120Z
UID:494-1670673600-1670684400@www.murrietahorsebackriding.com
SUMMARY:Christmas Game Day
DESCRIPTION:
URL:https://www.murrietahorsebackriding.com/event/christmas-game-day/
LOCATION:Blossom Hill Ranch\, 42631 Kalmia St.\, Murrieta\, CA\, 92562\, United States
ORGANIZER;CN="Candice Jennings":MAILTO:blossomhillranch@gmail.com
END:VEVENT
BEGIN:VEVENT
DTSTART;TZID=America/Los_Angeles:20221126T120000
DTEND;TZID=America/Los_Angeles:20221126T150000
DTSTAMP:20260421T143641
CREATED:20221116T203724Z
LAST-MODIFIED:20221116T203724Z
UID:497-1669464000-1669474800@www.murrietahorsebackriding.com
SUMMARY:PONY CLUB Mounted and Un-Mounted Meeting
DESCRIPTION:
URL:https://www.murrietahorsebackriding.com/event/pony-club-mounted-and-un-mounted-meeting-3/
LOCATION:Blossom Hill Ranch\, 42631 Kalmia St.\, Murrieta\, CA\, 92562\, United States
CATEGORIES:Pony Club
ORGANIZER;CN="Candice Jennings":MAILTO:blossomhillranch@gmail.com
END:VEVENT
BEGIN:VEVENT
DTSTART;TZID=America/Los_Angeles:20221126T120000
DTEND;TZID=America/Los_Angeles:20221126T150000
DTSTAMP:20260421T143641
CREATED:20221116T192117Z
LAST-MODIFIED:20221116T203252Z
UID:462-1669464000-1669474800@www.murrietahorsebackriding.com
SUMMARY:Bareback Lesson
DESCRIPTION:
URL:https://www.murrietahorsebackriding.com/event/bareback-lesson/
LOCATION:Blossom Hill Ranch\, 42631 Kalmia St.\, Murrieta\, CA\, 92562\, United States
ORGANIZER;CN="Candice Jennings":MAILTO:blossomhillranch@gmail.com
END:VEVENT
BEGIN:VEVENT
DTSTART;VALUE=DATE:20221119
DTEND;VALUE=DATE:20221121
DTSTAMP:20260421T143641
CREATED:20221116T195016Z
LAST-MODIFIED:20221116T195016Z
UID:479-1668816000-1668988799@www.murrietahorsebackriding.com
SUMMARY:Vista Palomar Riders Hunter Jumper Show
DESCRIPTION:Vista Palomar is a great show for all levels of competitors. There are divisions from lead line through 3’3” Hunters and 2’9” Jumpers. This is a two-day show with jumpers on Saturday and hunters on Sunday. Your total cost will be your show fees\, coaching fee\, and hauling combined. This is a beautiful facility to compete at with awesome prizes. \nFor more info check out our horse show guide !
URL:https://www.murrietahorsebackriding.com/event/vista-palomar-riders-hunter-jumper-show/
LOCATION:Vista Palomar Valley Riders\, 973 Little Gopher Canyon Rd\, Vista\, CA\, 92084\, United States
ORGANIZER;CN="Candice Jennings":MAILTO:blossomhillranch@gmail.com
END:VEVENT
BEGIN:VEVENT
DTSTART;VALUE=DATE:20200328
DTEND;VALUE=DATE:20200330
DTSTAMP:20260421T143641
CREATED:20200118T000729Z
LAST-MODIFIED:20200118T000806Z
UID:346-1585353600-1585526399@www.murrietahorsebackriding.com
SUMMARY:Vista Palomar Riders Hunter/Jumper Horse Show
DESCRIPTION:Vista Palomar is a great hunter show for all levels of competitors. There are divisions from Lead-Line through 3’3” Hunters and 3’6” Jumpers. This is a two-day show with jumpers on Saturday and Hunters on Sunday. \nShow Fees are estimates only. Price may very depending on number of classes riders are participating in. Total cost is Show Fees\, Coaching and Hauling combined.\nApproximate Show Fees: $185-$250\nCoaching Fee: $55/day\nHauling: $54 round-trip
URL:https://www.murrietahorsebackriding.com/event/vista-palomar-riders-hunter-jumper-horse-show-2/
LOCATION:Vista Palomar Riders\, 973 Little Gopher Canyon Rd.\, Vista\, CA\, 92084\, United States
END:VEVENT
BEGIN:VEVENT
DTSTART;VALUE=DATE:20200321
DTEND;VALUE=DATE:20200322
DTSTAMP:20260421T143641
CREATED:20200118T000650Z
LAST-MODIFIED:20200118T000650Z
UID:343-1584748800-1584835199@www.murrietahorsebackriding.com
SUMMARY:PONY CLUB Games Rally
DESCRIPTION:More information and cost coming soon! \nAbout Mounted Games: Mounted Games were originally the idea of His Royal Highness\, Prince Philip\, as a way to encourage enthusiasm\, participation\, and training in younger riders without the need of expensive ponies.  A natural draw to all levels of riding abilities\, Games provide a fun sport that teaches the basic natural aids\, physical coordination\, self-confidence\, and teamwork skills.  It also fosters sportsmanship and the proper care of mounts in new and younger members. \nAbout Games Competition: Mounted Games competitions are comprised of several relay-style races requiring riders to pick up objects from the ground while remaining in the saddle\, weave through a series of poles at high speeds\, hand items off to teammates without slowing their ponies\, and dunking objects into buckets (sometimes at a gallop!).  Teams are made up of two to five riders of the same skill level. Ponies are the preferred mount of choice for games as their shorter stature make several of the races much easier to play.  Horses can be used but are much harder for riders to reach the ground from while remaining in the saddle and can be more difficult to mount/dismount at faster paces than a walk or standstill. Riders of any skill level and ability can compete in Mounted Games\, with beginners usually competing at the Walk-Trot level before moving on into the Junior\, Senior\, and Advanced ranks.  The levels are divided based on the ages of the riders\, with the exception of Walk-Trot in which any member of any age can compete.
URL:https://www.murrietahorsebackriding.com/event/pony-club-games-rally/
LOCATION:Heartland Ranch Equestrian Center\, 12139 Moreno Avenue\, Lakeside\, CA\, 92040\, United States
CATEGORIES:Pony Club
END:VEVENT
BEGIN:VEVENT
DTSTART;TZID=America/Los_Angeles:20200314T080000
DTEND;TZID=America/Los_Angeles:20200314T170000
DTSTAMP:20260421T143641
CREATED:20200118T000314Z
LAST-MODIFIED:20200118T000314Z
UID:341-1584172800-1584205200@www.murrietahorsebackriding.com
SUMMARY:Cross Country Clinic @ Fallbrook Riders Field
DESCRIPTION:This is a great opportunity for riders who are comfortably coursing 2’3” and above to school cross-country and gain experience jumping out of the arena in a new environment. Riders will be grouped according to their riding level. Ride times will be given after groups are set. \nNon-PC Riders Clinic Price: $110\nPony Club Members Price: $85.
URL:https://www.murrietahorsebackriding.com/event/cross-country-clinic-fallbrook-riders-field-2/
LOCATION:Fallbrook Riders Field\, 1627 S. Stage Coach Lane\, Fallbrook\, CA\, 92028\, United States
END:VEVENT
BEGIN:VEVENT
DTSTART;TZID=America/Los_Angeles:20200307T110000
DTEND;TZID=America/Los_Angeles:20200307T140000
DTSTAMP:20260421T143641
CREATED:20200118T000155Z
LAST-MODIFIED:20200118T000204Z
UID:339-1583578800-1583589600@www.murrietahorsebackriding.com
SUMMARY:PONY CLUB Mounted and Un-Mounted Meeting
DESCRIPTION:The mounted portion will be 11-12:30 followed by the un-mounted meeting 12:30-2:00. Cost is $15.
URL:https://www.murrietahorsebackriding.com/event/pony-club-mounted-and-un-mounted-meeting-2/
LOCATION:Blossom Hill Ranch\, 42631 Kalmia St.\, Murrieta\, CA\, 92562\, United States
CATEGORIES:Pony Club
END:VEVENT
BEGIN:VEVENT
DTSTART;TZID=America/Los_Angeles:20200229T093000
DTEND;TZID=America/Los_Angeles:20200229T143000
DTSTAMP:20260421T143641
CREATED:20200118T075751Z
LAST-MODIFIED:20200118T075751Z
UID:336-1582968600-1582986600@www.murrietahorsebackriding.com
SUMMARY:Stick Horse Rally
DESCRIPTION:The Stick Horse Rally will be held at Sandia Creek Ranch in Fallbrook 9:30am-2:30pm. Lunch will be picnic style so bring your own and a lawn chair. Cost $25 for Pony Club members and $35 for non-Pony Club members. \nThis rally is known as a “horseless” rally. The “Everything But The Horse” (EBTH) rally is meant to give members a chance to experience a Pony Club rally\, but without the pressure of preparing a horse. It is conducted like a regular competition where members set up a tack room and stalls\, and are judged on their Horse Management skills. It is geared towards new members and younger members of Pony Club who either do not have a horse or have never experienced a rally. EBTH rallies are not offered at Championships.
URL:https://www.murrietahorsebackriding.com/event/stick-horse-rally/
LOCATION:Sandia Creek Ranch\, 40373 Sandia Creek Dr.\, Fallbrook\, CA\, 92028\, United States
END:VEVENT
BEGIN:VEVENT
DTSTART;VALUE=DATE:20200222
DTEND;VALUE=DATE:20200224
DTSTAMP:20260421T143641
CREATED:20200118T074908Z
LAST-MODIFIED:20200118T075158Z
UID:331-1582329600-1582502399@www.murrietahorsebackriding.com
SUMMARY:Vista Palomar Riders Hunter/Jumper Horse Show
DESCRIPTION:Vista Palomar is a great hunter show for all levels of competitors. There are divisions from Lead-Line through 3’3” Hunters and 3’6” Jumpers. This is a two-day show with jumpers on Saturday and Hunters on Sunday. \nShow Fees are estimates only. Price may very depending on number of classes riders are participating in. Total cost is Show Fees\, Coaching and Hauling combined.\nApproximate Show Fees: $185-$250\nCoaching Fee: $55/day\nHauling: $54 round-trip
URL:https://www.murrietahorsebackriding.com/event/vista-palomar-riders-hunter-jumper-horse-show/
LOCATION:Vista Palomar Riders\, 973 Little Gopher Canyon Rd.\, Vista\, CA\, 92084\, United States
END:VEVENT
BEGIN:VEVENT
DTSTART;VALUE=DATE:20200214
DTEND;VALUE=DATE:20200216
DTSTAMP:20260421T143641
CREATED:20200118T073824Z
LAST-MODIFIED:20200118T073824Z
UID:323-1581696000-1581782399@www.murrietahorsebackriding.com
SUMMARY:Cross Country Clinic @ Fallbrook Riders Field
DESCRIPTION:This is a great opportunity for riders who are comfortably coursing 2’3” and above to school cross-country and gain experience jumping out of the arena in a new environment. Riders will be grouped according to their riding level. Ride times will be given after groups are set. \nNon-PC Riders Clinic Price: $110\nPony Club Members Price: $85.
URL:https://www.murrietahorsebackriding.com/event/cross-country-clinic-fallbrook-riders-field/
LOCATION:Fallbrook Riders Field\, 1627 S. Stage Coach Lane\, Fallbrook\, CA\, 92028\, United States
END:VEVENT
BEGIN:VEVENT
DTSTART;VALUE=DATE:20200207
DTEND;VALUE=DATE:20200209
DTSTAMP:20260421T143641
CREATED:20200118T073421Z
LAST-MODIFIED:20200118T073531Z
UID:318-1581091200-1581177599@www.murrietahorsebackriding.com
SUMMARY:PONY CLUB Quiz Rally
DESCRIPTION:The 2020 Quiz Rally will be held at the International Equestrian Center in Ramona\, CA. Registration opens at 8:30am. The volunteer and chaperone meeting will be at 9:00am and Rally Meeting will be at 9:30. Competition will begin promptly at 10:00am. Awards will follow the final phase. Each team needs two parent volunteers. Pack your own lunch and snacks. Bring a lawn chair. Entries must be turned into Candice by January 15th. \nAbout Quiz: The mission of Quiz is to promote a deep understanding and familiarity with the material presented at each certification level. Quiz is a fundamental and creative learning tool. Many aspects of Pony Club mounted rallies can be learned at the Quiz Rally. This rally\, besides challenging Pony Club members to learn horsemanship and horse care\, provides them with opportunities to display and learn good sportsmanship\, leadership\, stewardship\, and teamwork as they prepare thoroughly\, plan and cooperate with their teammates\, and take winning or losing in stride. \nAbout Quiz Competition: In an effort to make Quiz more interactive and therefore more fun\, there are five phases. These are Classroom\, Stations\, Mega Room\, Barn\, and Written Test. In the Classroom phase\, members are asked individual questions which they must answer orally in a specific amount of time. During the Stations phase\, teams move through a variety of ‘stations’ and answer questions at those stations as a team. The stations may be written\, hands-on\, or even games. Teams then move on to the Barn phase\, which is presented in a barn\, or barn-like\, setting. Members must be able to demonstrate something and many questions are hands-on. Each member is given an individual question before the team as a whole is given one. The final phase of Quiz is the Written Test. This is an individual\, multiple choice test each team member must complete. They are specific to the member’s certification and include a tie-breaker question at the end.
URL:https://www.murrietahorsebackriding.com/event/pony-club-quiz-rally/
LOCATION:International Equestrian Center\, 16911 Gunn Stage Rd.\, Ramona\, CA\, 92065\, United States
CATEGORIES:Pony Club
END:VEVENT
BEGIN:VEVENT
DTSTART;TZID=America/Los_Angeles:20200125T110000
DTEND;TZID=America/Los_Angeles:20200125T140000
DTSTAMP:20260421T143641
CREATED:20200118T072901Z
LAST-MODIFIED:20200118T072901Z
UID:315-1579950000-1579960800@www.murrietahorsebackriding.com
SUMMARY:PONY CLUB Mounted and Un-Mounted Meeting
DESCRIPTION:The mounted portion will be 11-12:30 followed by the un-mounted meeting 12:30-2:00. Cost is $15. This un-mounted meeting will be a study prep for the Quiz Rally.
URL:https://www.murrietahorsebackriding.com/event/pony-club-mounted-and-un-mounted-meeting/
LOCATION:Blossom Hill Ranch\, 42631 Kalmia St.\, Murrieta\, CA\, 92562\, United States
END:VEVENT
END:VCALENDAR